BEGIN:VCALENDAR
VERSION:2.0
PRODID:-//Plone.org//NONSGML plone.app.event//EN
X-WR-TIMEZONE:America/Maceio
BEGIN:VEVENT
SUMMARY:Oficina Microsoft Teams
DTSTART;TZID=America/Maceio:20210719T150000
DTEND;TZID=America/Maceio:20210730T170000
DTSTAMP:20260420T123520Z
UID:71012beb9cd9413480eef726765b569b@principal.ufal.br
CREATED:20210630T153439Z
LAST-MODIFIED:20230413T154752Z
URL:https://ufal.br/servidor/capacitacao/eventos/anos-anteriores/2021/ii-s
 emestre/inscricoes-encerradas/oficina-microsoft-teams
END:VEVENT
BEGIN:VTIMEZONE
TZID:America/Maceio
X-LIC-LOCATION:America/Maceio
BEGIN:STANDARD
DTSTART:20020216T230000
TZNAME:-03
TZOFFSETFROM:-0200
TZOFFSETTO:-0300
END:STANDARD
END:VTIMEZONE
END:VCALENDAR
