BEGIN:VCALENDAR
VERSION:2.0
PRODID:-//Plone.org//NONSGML plone.app.event//EN
X-WR-TIMEZONE:America/Maceio
BEGIN:VEVENT
SUMMARY:Oficina Ferramentas Google (Planilhas e Forms)
DTSTART;TZID=America/Maceio:20211013T190000
DTEND;TZID=America/Maceio:20211027T090000
DTSTAMP:20260420T110705Z
UID:5dd44ddcb2e341698b90401201e01865@principal.ufal.br
CREATED:20210915T141531Z
LAST-MODIFIED:20230413T154752Z
URL:https://ufal.br/servidor/capacitacao/eventos/anos-anteriores/2021/ii-s
 emestre/inscricoes-encerradas/oficina-ferramentas-google-planilhas-e-forms
END:VEVENT
BEGIN:VTIMEZONE
TZID:America/Maceio
X-LIC-LOCATION:America/Maceio
BEGIN:STANDARD
DTSTART:20020216T230000
TZNAME:-03
TZOFFSETFROM:-0200
TZOFFSETTO:-0300
END:STANDARD
END:VTIMEZONE
END:VCALENDAR
