BEGIN:VCALENDAR
VERSION:2.0
PRODID:-//Plone.org//NONSGML plone.app.event//EN
X-WR-TIMEZONE:America/Maceio
BEGIN:VEVENT
SUMMARY:Oficina de Stream Yard
DTSTART;TZID=America/Maceio:20210927T140000
DTEND;TZID=America/Maceio:20211003T160000
DTSTAMP:20260420T203347Z
UID:71d430fc372945a4939d760a1f72f83e@principal.ufal.br
CREATED:20210921T114359Z
LAST-MODIFIED:20230413T154753Z
URL:https://ufal.br/servidor/capacitacao/eventos/anos-anteriores/2021/ii-s
 emestre/inscricoes-encerradas/oficina-de-stream-yard
END:VEVENT
BEGIN:VTIMEZONE
TZID:America/Maceio
X-LIC-LOCATION:America/Maceio
BEGIN:STANDARD
DTSTART:20020216T230000
TZNAME:-03
TZOFFSETFROM:-0200
TZOFFSETTO:-0300
END:STANDARD
END:VTIMEZONE
END:VCALENDAR
