BEGIN:VCALENDAR
VERSION:2.0
PRODID:-//Plone.org//NONSGML plone.app.event//EN
X-WR-TIMEZONE:America/Maceio
BEGIN:VEVENT
SUMMARY:Oficina de Google Meet - Turma 2
DTSTART;TZID=America/Maceio:20210920T140000
DTEND;TZID=America/Maceio:20210924T170000
DTSTAMP:20260420T205219Z
UID:123d8ec2cdc049a8823647ab9f4e7d88@principal.ufal.br
CREATED:20210901T152351Z
LAST-MODIFIED:20230413T154752Z
URL:https://ufal.br/servidor/capacitacao/eventos/anos-anteriores/2021/ii-s
 emestre/inscricoes-encerradas/oficina-de-google-meet-turma-2
END:VEVENT
BEGIN:VTIMEZONE
TZID:America/Maceio
X-LIC-LOCATION:America/Maceio
BEGIN:STANDARD
DTSTART:20020216T230000
TZNAME:-03
TZOFFSETFROM:-0200
TZOFFSETTO:-0300
END:STANDARD
END:VTIMEZONE
END:VCALENDAR
