BEGIN:VCALENDAR
VERSION:2.0
PRODID:-//Plone.org//NONSGML plone.app.event//EN
X-WR-TIMEZONE:America/Maceio
BEGIN:VEVENT
SUMMARY:Curso Transformação Digital e Inovação na Administração Púb
 lica
DTSTART;TZID=America/Maceio:20210831T200000
DTEND;TZID=America/Maceio:20210911T220000
DTSTAMP:20260420T143756Z
UID:e8cdc30a6512443393f82426496d6d65@principal.ufal.br
CREATED:20210701T130141Z
LAST-MODIFIED:20230413T154752Z
URL:https://ufal.br/servidor/capacitacao/eventos/anos-anteriores/2021/ii-s
 emestre/inscricoes-encerradas/curso-transformacao-digital-e-inovacao-na-ad
 ministracao-publica
END:VEVENT
BEGIN:VTIMEZONE
TZID:America/Maceio
X-LIC-LOCATION:America/Maceio
BEGIN:STANDARD
DTSTART:20020216T230000
TZNAME:-03
TZOFFSETFROM:-0200
TZOFFSETTO:-0300
END:STANDARD
END:VTIMEZONE
END:VCALENDAR
