BEGIN:VCALENDAR
VERSION:2.0
PRODID:-//Plone.org//NONSGML plone.app.event//EN
X-WR-TIMEZONE:America/Maceio
BEGIN:VEVENT
SUMMARY:Curso Inclusão de Pessoa com Deficiência e Tecnologias Assistiva
 s
DTSTART;TZID=America/Maceio:20210803T143000
DTEND;TZID=America/Maceio:20210831T173000
DTSTAMP:20260421T022752Z
UID:c0cfa6017046472f9c2521b77e0c1314@principal.ufal.br
CREATED:20210701T143740Z
LAST-MODIFIED:20230413T154752Z
URL:https://ufal.br/servidor/capacitacao/eventos/anos-anteriores/2021/ii-s
 emestre/inscricoes-encerradas/curso-inclusao-de-pessoa-com-deficiencia-e-t
 ecnologias-assistivas
END:VEVENT
BEGIN:VTIMEZONE
TZID:America/Maceio
X-LIC-LOCATION:America/Maceio
BEGIN:STANDARD
DTSTART:20020216T230000
TZNAME:-03
TZOFFSETFROM:-0200
TZOFFSETTO:-0300
END:STANDARD
END:VTIMEZONE
END:VCALENDAR
