BEGIN:VCALENDAR
VERSION:2.0
PRODID:-//Plone.org//NONSGML plone.app.event//EN
X-WR-TIMEZONE:America/Maceio
BEGIN:VEVENT
SUMMARY:Webnário: Ressarcimento de Custos Indiretos (RCI) como Alternativ
 a de Captação de Recursos para a UFAL
DTSTART;TZID=America/Maceio:20210812T143000
DTEND;TZID=America/Maceio:20210812T163000
DTSTAMP:20260420T215634Z
UID:18d89acf085e482299934e7b2159e8cb@principal.ufal.br
CREATED:20210722T164536Z
LAST-MODIFIED:20230413T154751Z
URL:https://ufal.br/servidor/capacitacao/eventos/anos-anteriores/2021/ii-s
 emestre/inscricoes-encerradas/acoes-para-publico-alvo-especifico/webnario-
 ressarcimento-de-custos-indiretos-rci-como-alternativa-de-captacao-de-recu
 rsos-para-a-ufal
END:VEVENT
BEGIN:VTIMEZONE
TZID:America/Maceio
X-LIC-LOCATION:America/Maceio
BEGIN:STANDARD
DTSTART:20020216T230000
TZNAME:-03
TZOFFSETFROM:-0200
TZOFFSETTO:-0300
END:STANDARD
END:VTIMEZONE
END:VCALENDAR
