BEGIN:VCALENDAR
VERSION:2.0
PRODID:-//Plone.org//NONSGML plone.app.event//EN
X-WR-TIMEZONE:America/Maceio
BEGIN:VEVENT
SUMMARY:Webnário - Planejamento: do Cenário Nacional à UFAL
DTSTART;TZID=America/Maceio:20210713T143000
DTSTAMP:20260420T220055Z
UID:0a43cdfd8d794ef1b8f0c1a1692ae52d@principal.ufal.br
CREATED:20210621T122337Z
LAST-MODIFIED:20230413T154751Z
URL:https://ufal.br/servidor/capacitacao/eventos/anos-anteriores/2021/ii-s
 emestre/inscricoes-encerradas/acoes-para-publico-alvo-especifico/webnario-
 planejamento-do-cenario-nacional-a-ufal
END:VEVENT
BEGIN:VTIMEZONE
TZID:America/Maceio
X-LIC-LOCATION:America/Maceio
BEGIN:STANDARD
DTSTART:20020216T230000
TZNAME:-03
TZOFFSETFROM:-0200
TZOFFSETTO:-0300
END:STANDARD
END:VTIMEZONE
END:VCALENDAR
