BEGIN:VCALENDAR
VERSION:2.0
PRODID:-//Plone.org//NONSGML plone.app.event//EN
X-WR-TIMEZONE:America/Maceio
BEGIN:VEVENT
SUMMARY:Projeto Multiolhares - Turma 01 - Hospital Veterinário
DTSTART;TZID=America/Maceio:20210930T080000
DTEND;TZID=America/Maceio:20211216T000000
DTSTAMP:20260420T202013Z
UID:1d7a1b6a667645ed9921fabf383987e7@principal.ufal.br
CREATED:20210917T145241Z
LAST-MODIFIED:20230413T154751Z
URL:https://ufal.br/servidor/capacitacao/eventos/anos-anteriores/2021/ii-s
 emestre/inscricoes-encerradas/acoes-para-publico-alvo-especifico/projeto-m
 ultiolhares-turma-01-hospital-veterinario
END:VEVENT
BEGIN:VTIMEZONE
TZID:America/Maceio
X-LIC-LOCATION:America/Maceio
BEGIN:STANDARD
DTSTART:20020216T230000
TZNAME:-03
TZOFFSETFROM:-0200
TZOFFSETTO:-0300
END:STANDARD
END:VTIMEZONE
END:VCALENDAR
