BEGIN:VCALENDAR
VERSION:2.0
PRODID:-//Plone.org//NONSGML plone.app.event//EN
X-WR-TIMEZONE:America/Maceio
BEGIN:VEVENT
SUMMARY:Oficina de Google Meet
DTSTART;TZID=America/Maceio:20210609T110000
DTEND;TZID=America/Maceio:20210615T120000
DTSTAMP:20260420T165404Z
UID:96dc1bd42c474d068c56317bea8687b7@principal.ufal.br
CREATED:20210507T145731Z
LAST-MODIFIED:20230413T154750Z
URL:https://ufal.br/servidor/capacitacao/eventos/anos-anteriores/2021/i-se
 mestre/inscricoes-encerradas/oficina-de-google-meet
END:VEVENT
BEGIN:VTIMEZONE
TZID:America/Maceio
X-LIC-LOCATION:America/Maceio
BEGIN:STANDARD
DTSTART:20020216T230000
TZNAME:-03
TZOFFSETFROM:-0200
TZOFFSETTO:-0300
END:STANDARD
END:VTIMEZONE
END:VCALENDAR
