BEGIN:VCALENDAR
VERSION:2.0
PRODID:-//Plone.org//NONSGML plone.app.event//EN
X-WR-TIMEZONE:America/Maceio
BEGIN:VEVENT
SUMMARY:Curso Ferramentas Google
DTSTART;TZID=America/Maceio:20210618T133000
DTEND;TZID=America/Maceio:20210625T173000
DTSTAMP:20260420T162521Z
UID:c0107b1f006a41b8874f07bb968a9c3e@principal.ufal.br
CREATED:20210601T142553Z
LAST-MODIFIED:20230413T154751Z
URL:https://ufal.br/servidor/capacitacao/eventos/anos-anteriores/2021/i-se
 mestre/inscricoes-encerradas/curso-ferramentas-google
END:VEVENT
BEGIN:VTIMEZONE
TZID:America/Maceio
X-LIC-LOCATION:America/Maceio
BEGIN:STANDARD
DTSTART:20020216T230000
TZNAME:-03
TZOFFSETFROM:-0200
TZOFFSETTO:-0300
END:STANDARD
END:VTIMEZONE
END:VCALENDAR
