BEGIN:VCALENDAR
VERSION:2.0
PRODID:-//Plone.org//NONSGML plone.app.event//EN
X-WR-TIMEZONE:America/Maceio
BEGIN:VEVENT
SUMMARY:Curso de Ferramentas do Pacote Microsoft Office
DTSTART;TZID=America/Maceio:20210607T090000
DTEND;TZID=America/Maceio:20210705T120000
DTSTAMP:20260420T165402Z
UID:22522c7151fb4e26b162337181f47443@principal.ufal.br
CREATED:20210521T142758Z
LAST-MODIFIED:20230413T154750Z
URL:https://ufal.br/servidor/capacitacao/eventos/anos-anteriores/2021/i-se
 mestre/inscricoes-encerradas/curso-de-ferramentas-do-pacote-office
END:VEVENT
BEGIN:VTIMEZONE
TZID:America/Maceio
X-LIC-LOCATION:America/Maceio
BEGIN:STANDARD
DTSTART:20020216T230000
TZNAME:-03
TZOFFSETFROM:-0200
TZOFFSETTO:-0300
END:STANDARD
END:VTIMEZONE
END:VCALENDAR
