BEGIN:VCALENDAR
VERSION:2.0
PRODID:-//Plone.org//NONSGML plone.app.event//EN
X-WR-TIMEZONE:America/Maceio
BEGIN:VEVENT
SUMMARY:Webnário: Planejamento x Especulação
DTSTART;TZID=America/Maceio:20210518T143000
DTEND;TZID=America/Maceio:20210518T163000
DTSTAMP:20260420T220129Z
UID:5486af56ebbb463fa77901e54dae5eef@principal.ufal.br
CREATED:20210504T135235Z
LAST-MODIFIED:20230413T154750Z
URL:https://ufal.br/servidor/capacitacao/eventos/anos-anteriores/2021/i-se
 mestre/inscricoes-encerradas/acoes-para-publico-alvo-especifico/webnario-p
 lanejamento-x-especulacao
END:VEVENT
BEGIN:VTIMEZONE
TZID:America/Maceio
X-LIC-LOCATION:America/Maceio
BEGIN:STANDARD
DTSTART:20020216T230000
TZNAME:-03
TZOFFSETFROM:-0200
TZOFFSETTO:-0300
END:STANDARD
END:VTIMEZONE
END:VCALENDAR
