BEGIN:VCALENDAR
VERSION:2.0
PRODID:-//Plone.org//NONSGML plone.app.event//EN
X-WR-TIMEZONE:America/Maceio
BEGIN:VEVENT
SUMMARY:Webnário: O Papel do Gestor na Universidade: Desafios e Reflexõe
 s
DTSTART;TZID=America/Maceio:20210330T143000
DTEND;TZID=America/Maceio:20210330T153000
DTSTAMP:20260420T220029Z
UID:41d4b469c7cc4c46b5196f7c278791f6@principal.ufal.br
CREATED:20210324T150212Z
LAST-MODIFIED:20230413T154750Z
URL:https://ufal.br/servidor/capacitacao/eventos/anos-anteriores/2021/i-se
 mestre/inscricoes-encerradas/acoes-para-publico-alvo-especifico/webnario-o
 -papel-do-gestor-na-universidade-desafios-e-reflexoes
END:VEVENT
BEGIN:VTIMEZONE
TZID:America/Maceio
X-LIC-LOCATION:America/Maceio
BEGIN:STANDARD
DTSTART:20020216T230000
TZNAME:-03
TZOFFSETFROM:-0200
TZOFFSETTO:-0300
END:STANDARD
END:VTIMEZONE
END:VCALENDAR
