BEGIN:VCALENDAR
VERSION:2.0
PRODID:-//Plone.org//NONSGML plone.app.event//EN
X-WR-TIMEZONE:America/Maceio
BEGIN:VEVENT
SUMMARY:Webnário: Introdução ao Orçamento
DTSTART;TZID=America/Maceio:20210415T143000
DTEND;TZID=America/Maceio:20210415T153000
DTSTAMP:20260420T202106Z
UID:8c7d0dad9834484691521cfe019de40b@principal.ufal.br
CREATED:20210405T163337Z
LAST-MODIFIED:20230413T154750Z
URL:https://ufal.br/servidor/capacitacao/eventos/anos-anteriores/2021/i-se
 mestre/inscricoes-encerradas/acoes-para-publico-alvo-especifico/webnario-i
 ntroducao-ao-orcamento
END:VEVENT
BEGIN:VTIMEZONE
TZID:America/Maceio
X-LIC-LOCATION:America/Maceio
BEGIN:STANDARD
DTSTART:20020216T230000
TZNAME:-03
TZOFFSETFROM:-0200
TZOFFSETTO:-0300
END:STANDARD
END:VTIMEZONE
END:VCALENDAR
