BEGIN:VCALENDAR
VERSION:2.0
PRODID:-//Plone.org//NONSGML plone.app.event//EN
X-WR-TIMEZONE:America/Maceio
BEGIN:VEVENT
SUMMARY:Minicurso de Treinamento em Biossegurança
DTSTART;VALUE=DATE:20210525
DTEND;VALUE=DATE:20210526
DTSTAMP:20260420T220003Z
UID:750aee54cd254f0f95c72b1b3deb5260@principal.ufal.br
CREATED:20210715T152600Z
LAST-MODIFIED:20230413T154750Z
URL:https://ufal.br/servidor/capacitacao/eventos/anos-anteriores/2021/i-se
 mestre/inscricoes-encerradas/acoes-para-publico-alvo-especifico/minicurso-
 de-treinamento-em-biosseguranca
END:VEVENT
END:VCALENDAR
