BEGIN:VCALENDAR
VERSION:2.0
PRODID:-//Plone.org//NONSGML plone.app.event//EN
X-WR-TIMEZONE:America/Maceio
BEGIN:VEVENT
SUMMARY:Cronograma de Cursos GC
DTSTART;VALUE=DATE:20200601
DTEND;VALUE=DATE:20201101
DTSTAMP:20260420T024846Z
UID:2c9893a1061b4925b8051ff2ed5d8950@principal.ufal.br
CREATED:20210531T132629Z
LAST-MODIFIED:20230413T154746Z
URL:https://ufal.br/servidor/capacitacao/eventos/anos-anteriores/2021/cron
 ograma-de-cursos-gc
END:VEVENT
END:VCALENDAR
