BEGIN:VCALENDAR
VERSION:2.0
PRODID:-//Plone.org//NONSGML plone.app.event//EN
X-WR-TIMEZONE:America/Maceio
BEGIN:VEVENT
SUMMARY:Curso Qualidade no Atendimento Aplicada ao Serviço Público
DTSTART;TZID=America/Maceio:20200910T140000
DTEND;TZID=America/Maceio:20200929T160000
DTSTAMP:20260420T213506Z
UID:a76c60add7e34d7e89aa405affbb697b@principal.ufal.br
CREATED:20200615T131057Z
LAST-MODIFIED:20230413T154715Z
URL:https://ufal.br/servidor/capacitacao/eventos/anos-anteriores/2020/ii-s
 emestre/inscricoes-encerradas/curso-qualidade-no-atendimento-aplicada-ao-s
 ervico-publico
END:VEVENT
BEGIN:VTIMEZONE
TZID:America/Maceio
X-LIC-LOCATION:America/Maceio
BEGIN:STANDARD
DTSTART:20020216T230000
TZNAME:-03
TZOFFSETFROM:-0200
TZOFFSETTO:-0300
END:STANDARD
END:VTIMEZONE
END:VCALENDAR
