BEGIN:VCALENDAR
VERSION:2.0
PRODID:-//Plone.org//NONSGML plone.app.event//EN
X-WR-TIMEZONE:America/Maceio
BEGIN:VEVENT
SUMMARY:Curso Produção Textual: Aspectos Metodológicos
DTSTART;TZID=America/Maceio:20200727T140000
DTEND;TZID=America/Maceio:20200818T180000
DTSTAMP:20260420T182638Z
UID:6a190d7ab53f47b9a50aa9957e508271@principal.ufal.br
CREATED:20200612T163728Z
LAST-MODIFIED:20230413T154715Z
URL:https://ufal.br/servidor/capacitacao/eventos/anos-anteriores/2020/ii-s
 emestre/inscricoes-encerradas/curso-producao-textual-aspectos-metodologico
 s
END:VEVENT
BEGIN:VTIMEZONE
TZID:America/Maceio
X-LIC-LOCATION:America/Maceio
BEGIN:STANDARD
DTSTART:20020216T230000
TZNAME:-03
TZOFFSETFROM:-0200
TZOFFSETTO:-0300
END:STANDARD
END:VTIMEZONE
END:VCALENDAR
