BEGIN:VCALENDAR
VERSION:2.0
PRODID:-//Plone.org//NONSGML plone.app.event//EN
X-WR-TIMEZONE:America/Maceio
BEGIN:VEVENT
SUMMARY:Curso Plataforma Moodle
DTSTART;TZID=America/Maceio:20200708T090000
DTEND;TZID=America/Maceio:20200728T000000
DTSTAMP:20260421T004427Z
UID:4b96323ed1a64be5a7c9e677c232ccbe@principal.ufal.br
CREATED:20200619T171710Z
LAST-MODIFIED:20230413T154715Z
URL:https://ufal.br/servidor/capacitacao/eventos/anos-anteriores/2020/ii-s
 emestre/inscricoes-encerradas/curso-plataforma-moodle
END:VEVENT
BEGIN:VTIMEZONE
TZID:America/Maceio
X-LIC-LOCATION:America/Maceio
BEGIN:STANDARD
DTSTART:20020216T230000
TZNAME:-03
TZOFFSETFROM:-0200
TZOFFSETTO:-0300
END:STANDARD
END:VTIMEZONE
END:VCALENDAR
