BEGIN:VCALENDAR
VERSION:2.0
PRODID:-//Plone.org//NONSGML plone.app.event//EN
X-WR-TIMEZONE:America/Maceio
BEGIN:VEVENT
SUMMARY:Curso Planejamento Estratégico para Elaboração do Plano Setoria
 l
DTSTART;TZID=America/Maceio:20200721T140000
DTEND;TZID=America/Maceio:20200806T160000
DTSTAMP:20260420T201845Z
UID:8ca10aabf3004fc09e4c5b7af66aef70@principal.ufal.br
CREATED:20200612T144731Z
LAST-MODIFIED:20230413T154716Z
URL:https://ufal.br/servidor/capacitacao/eventos/anos-anteriores/2020/ii-s
 emestre/inscricoes-encerradas/curso-planejamento-estrategico-para-elaborac
 ao-do-plano-setorial
END:VEVENT
BEGIN:VTIMEZONE
TZID:America/Maceio
X-LIC-LOCATION:America/Maceio
BEGIN:STANDARD
DTSTART:20020216T230000
TZNAME:-03
TZOFFSETFROM:-0200
TZOFFSETTO:-0300
END:STANDARD
END:VTIMEZONE
END:VCALENDAR
