BEGIN:VCALENDAR
VERSION:2.0
PRODID:-//Plone.org//NONSGML plone.app.event//EN
X-WR-TIMEZONE:America/Maceio
BEGIN:VEVENT
SUMMARY:Curso Moodle Avançado - Turma 2
DTSTART;TZID=America/Maceio:20201021T090000
DTEND;TZID=America/Maceio:20201110T120000
DTSTAMP:20260420T231013Z
UID:4fdf6b8196464cab87c3525507835b8f@principal.ufal.br
CREATED:20201008T171655Z
LAST-MODIFIED:20230413T154716Z
URL:https://ufal.br/servidor/capacitacao/eventos/anos-anteriores/2020/ii-s
 emestre/inscricoes-encerradas/curso-moodle-avancado-turma-2
END:VEVENT
BEGIN:VTIMEZONE
TZID:America/Maceio
X-LIC-LOCATION:America/Maceio
BEGIN:STANDARD
DTSTART:20020216T230000
TZNAME:-03
TZOFFSETFROM:-0200
TZOFFSETTO:-0300
END:STANDARD
END:VTIMEZONE
END:VCALENDAR
