BEGIN:VCALENDAR
VERSION:2.0
PRODID:-//Plone.org//NONSGML plone.app.event//EN
X-WR-TIMEZONE:America/Maceio
BEGIN:VEVENT
SUMMARY:Curso Moodle Avançado
DTSTART;TZID=America/Maceio:20200909T090000
DTEND;TZID=America/Maceio:20200929T000000
DTSTAMP:20260421T020826Z
UID:bb8dffc64b9446b98339086b7a9cc0ca@principal.ufal.br
CREATED:20200825T184417Z
LAST-MODIFIED:20230413T154716Z
URL:https://ufal.br/servidor/capacitacao/eventos/anos-anteriores/2020/ii-s
 emestre/inscricoes-encerradas/curso-moodle-aancado
END:VEVENT
BEGIN:VTIMEZONE
TZID:America/Maceio
X-LIC-LOCATION:America/Maceio
BEGIN:STANDARD
DTSTART:20020216T230000
TZNAME:-03
TZOFFSETFROM:-0200
TZOFFSETTO:-0300
END:STANDARD
END:VTIMEZONE
END:VCALENDAR
