BEGIN:VCALENDAR
VERSION:2.0
PRODID:-//Plone.org//NONSGML plone.app.event//EN
X-WR-TIMEZONE:America/Maceio
BEGIN:VEVENT
SUMMARY:Curso Legislação de Pessoal: Atualização sobre a Lei 8112/90
DTSTART;TZID=America/Maceio:20200810T140000
DTEND;TZID=America/Maceio:20200831T160000
DTSTAMP:20260420T184628Z
UID:8807dd75a1e2486899b1fb4f9883cc82@principal.ufal.br
CREATED:20200625T155251Z
LAST-MODIFIED:20230413T154716Z
URL:https://ufal.br/servidor/capacitacao/eventos/anos-anteriores/2020/ii-s
 emestre/inscricoes-encerradas/curso-legislacao-de-pessoal-atualizacao-sobr
 e-a-lei-8112-90
END:VEVENT
BEGIN:VTIMEZONE
TZID:America/Maceio
X-LIC-LOCATION:America/Maceio
BEGIN:STANDARD
DTSTART:20020216T230000
TZNAME:-03
TZOFFSETFROM:-0200
TZOFFSETTO:-0300
END:STANDARD
END:VTIMEZONE
END:VCALENDAR
