BEGIN:VCALENDAR
VERSION:2.0
PRODID:-//Plone.org//NONSGML plone.app.event//EN
X-WR-TIMEZONE:America/Maceio
BEGIN:VEVENT
SUMMARY:Curso Google Docs e Planilhas
DTSTART;TZID=America/Maceio:20200706T090000
DTEND;TZID=America/Maceio:20200809T110000
DTSTAMP:20260421T033415Z
UID:33c7d1ec92f94e4ab216ad1ade04eca6@principal.ufal.br
CREATED:20200623T164549Z
LAST-MODIFIED:20230413T154715Z
URL:https://ufal.br/servidor/capacitacao/eventos/anos-anteriores/2020/ii-s
 emestre/inscricoes-encerradas/curso-google-docs-e-planilhas
END:VEVENT
BEGIN:VTIMEZONE
TZID:America/Maceio
X-LIC-LOCATION:America/Maceio
BEGIN:STANDARD
DTSTART:20020216T230000
TZNAME:-03
TZOFFSETFROM:-0200
TZOFFSETTO:-0300
END:STANDARD
END:VTIMEZONE
END:VCALENDAR
