BEGIN:VCALENDAR
VERSION:2.0
PRODID:-//Plone.org//NONSGML plone.app.event//EN
X-WR-TIMEZONE:America/Maceio
BEGIN:VEVENT
SUMMARY:Curso Gestão da Comunicação e Redes Sociais Digitais para a Adm
 inistração Pública
DTSTART;TZID=America/Maceio:20200701T150000
DTEND;TZID=America/Maceio:20200722T170000
DTSTAMP:20260421T003515Z
UID:583613ea16464ea2b6f6a420bb4078dc@principal.ufal.br
CREATED:20200616T145532Z
LAST-MODIFIED:20230413T154715Z
URL:https://ufal.br/servidor/capacitacao/eventos/anos-anteriores/2020/ii-s
 emestre/inscricoes-encerradas/curso-gestao-da-comunicacao-e-redes-sociais-
 digitais-para-a-administracao-publica
END:VEVENT
BEGIN:VTIMEZONE
TZID:America/Maceio
X-LIC-LOCATION:America/Maceio
BEGIN:STANDARD
DTSTART:20020216T230000
TZNAME:-03
TZOFFSETFROM:-0200
TZOFFSETTO:-0300
END:STANDARD
END:VTIMEZONE
END:VCALENDAR
