BEGIN:VCALENDAR
VERSION:2.0
PRODID:-//Plone.org//NONSGML plone.app.event//EN
X-WR-TIMEZONE:America/Maceio
BEGIN:VEVENT
SUMMARY:Curso Elaboração de Redação Oficial e Atos Jurídicos
DTSTART;TZID=America/Maceio:20201001T140000
DTEND;TZID=America/Maceio:20201030T160000
DTSTAMP:20260421T003515Z
UID:4aaf201a84d844029621851d61b0f055@principal.ufal.br
CREATED:20200914T130706Z
LAST-MODIFIED:20230413T154716Z
URL:https://ufal.br/servidor/capacitacao/eventos/anos-anteriores/2020/ii-s
 emestre/inscricoes-encerradas/curso-elaboracao-de-redacao-oficial-e-atos-j
 uridicos
END:VEVENT
BEGIN:VTIMEZONE
TZID:America/Maceio
X-LIC-LOCATION:America/Maceio
BEGIN:STANDARD
DTSTART:20020216T230000
TZNAME:-03
TZOFFSETFROM:-0200
TZOFFSETTO:-0300
END:STANDARD
END:VTIMEZONE
END:VCALENDAR
