BEGIN:VCALENDAR
VERSION:2.0
PRODID:-//Plone.org//NONSGML plone.app.event//EN
X-WR-TIMEZONE:America/Maceio
BEGIN:VEVENT
SUMMARY:Curso Atualização da Língua da Língua Portuguesa - Turma B
DTSTART;TZID=America/Maceio:20200824T140000
DTEND;TZID=America/Maceio:20200916T180000
DTSTAMP:20260420T173017Z
UID:ca31a4a2ab4e43a4b251ee8e7c41c297@principal.ufal.br
CREATED:20200709T170336Z
DESCRIPTION:Como o número de inscritos ultrapassou o número de vagas\, f
 oi necessário dividir o curso em duas turmas.
LAST-MODIFIED:20230413T154716Z
URL:https://ufal.br/servidor/capacitacao/eventos/anos-anteriores/2020/ii-s
 emestre/inscricoes-encerradas/curso-atualizacao-da-lingua-da-lingua-portug
 uesa-turma-b
END:VEVENT
BEGIN:VTIMEZONE
TZID:America/Maceio
X-LIC-LOCATION:America/Maceio
BEGIN:STANDARD
DTSTART:20020216T230000
TZNAME:-03
TZOFFSETFROM:-0200
TZOFFSETTO:-0300
END:STANDARD
END:VTIMEZONE
END:VCALENDAR
