BEGIN:VCALENDAR
VERSION:2.0
PRODID:-//Plone.org//NONSGML plone.app.event//EN
X-WR-TIMEZONE:America/Maceio
BEGIN:VEVENT
SUMMARY:Curso Gestão da Comunicação e Redes Sociais Digitais para a Adm
 inistração Pública - Turma B
DTSTART;TZID=America/Maceio:20200727T133000
DTEND;TZID=America/Maceio:20200806T170000
DTSTAMP:20260420T214720Z
UID:c85e151b97b942398f685c087db5d440@principal.ufal.br
CREATED:20200630T151901Z
LAST-MODIFIED:20230413T154716Z
URL:https://ufal.br/servidor/capacitacao/eventos/anos-anteriores/2020/ii-s
 emestre/inscricoes-encerradas/copy_of_curso-gestao-da-comunicacao-e-redes-
 sociais-digitais-para-a-administracao-publica
END:VEVENT
BEGIN:VTIMEZONE
TZID:America/Maceio
X-LIC-LOCATION:America/Maceio
BEGIN:STANDARD
DTSTART:20020216T230000
TZNAME:-03
TZOFFSETFROM:-0200
TZOFFSETTO:-0300
END:STANDARD
END:VTIMEZONE
END:VCALENDAR
