BEGIN:VCALENDAR
VERSION:2.0
PRODID:-//Plone.org//NONSGML plone.app.event//EN
X-WR-TIMEZONE:America/Maceio
BEGIN:VEVENT
SUMMARY:Treinamento Teórico Prático: Primeiros Socorros Psicológicos
DTSTART;VALUE=DATE:20250928
DTEND;VALUE=DATE:20250929
DTSTAMP:20260420T074405Z
UID:ea1d5168800540f2a440680665bdddcb@principal.ufal.br
CREATED:20250929T141445Z
LAST-MODIFIED:20251229T125522Z
URL:https://ufal.br/servidor/capacitacao/eventos/2025/ii-semestre/treiname
 nto-teorico-pratico-primeiros-socorros-psicologicos
END:VEVENT
END:VCALENDAR
