BEGIN:VCALENDAR
VERSION:2.0
PRODID:-//Plone.org//NONSGML plone.app.event//EN
X-WR-TIMEZONE:America/Maceio
BEGIN:VEVENT
SUMMARY:Oficinas sobre Ergonomia e Direito e Deveres dos Servidores Públi
 cos Federais
DTSTART;TZID=America/Maceio:20250806T110000
DTEND;TZID=America/Maceio:20250821T120000
DTSTAMP:20260420T040411Z
UID:2c1e7a7ecc3e44928375f2be91a9861b@principal.ufal.br
CREATED:20251209T143248Z
LAST-MODIFIED:20251229T132506Z
URL:https://ufal.br/servidor/capacitacao/eventos/2025/ii-semestre/oficinas
 -sobre-ergonomia-e-direito-e-deveres-dos-servidores-publicos-federais
END:VEVENT
BEGIN:VTIMEZONE
TZID:America/Maceio
X-LIC-LOCATION:America/Maceio
BEGIN:STANDARD
DTSTART:20020216T230000
TZNAME:-03
TZOFFSETFROM:-0200
TZOFFSETTO:-0300
END:STANDARD
END:VTIMEZONE
END:VCALENDAR
