BEGIN:VCALENDAR
VERSION:2.0
PRODID:-//Plone.org//NONSGML plone.app.event//EN
X-WR-TIMEZONE:America/Maceio
BEGIN:VEVENT
SUMMARY:Mesa Redonda: Desafios para Adoção da Inteligência Artificial n
 a UFAL
DTSTART;TZID=America/Maceio:20251002T090000
DTEND;TZID=America/Maceio:20251002T120000
DTSTAMP:20260420T121605Z
UID:0721f246799d42e4a8330c87cacbea83@principal.ufal.br
CREATED:20251230T124800Z
LAST-MODIFIED:20251230T125333Z
URL:https://ufal.br/servidor/capacitacao/eventos/2025/ii-semestre/mesa-red
 onda-desafios-para-adocao-da-inteligencia-artificial-na-ufal
END:VEVENT
BEGIN:VTIMEZONE
TZID:America/Maceio
X-LIC-LOCATION:America/Maceio
BEGIN:STANDARD
DTSTART:20020216T230000
TZNAME:-03
TZOFFSETFROM:-0200
TZOFFSETTO:-0300
END:STANDARD
END:VTIMEZONE
END:VCALENDAR
