BEGIN:VCALENDAR
VERSION:2.0
PRODID:-//Plone.org//NONSGML plone.app.event//EN
X-WR-TIMEZONE:America/Maceio
BEGIN:VEVENT
SUMMARY:Inteligência Artificial para Criar\, Ensinar\, Pesquisar e Aprend
 er: ChatGPT\, Gemini e DeepSeek
DTSTART;TZID=America/Maceio:20251020T183000
DTEND;TZID=America/Maceio:20251112T203000
DTSTAMP:20260420T034414Z
UID:008cb978823e482f9fcae0bcb7e0f6ac@principal.ufal.br
CREATED:20251107T161503Z
LAST-MODIFIED:20251107T161510Z
URL:https://ufal.br/servidor/capacitacao/eventos/2025/ii-semestre/intelige
 ncia-artificial-para-criar-ensinar-pesquisar-e-aprender-chatgpt-gemini-e-d
 eepseek
END:VEVENT
BEGIN:VTIMEZONE
TZID:America/Maceio
X-LIC-LOCATION:America/Maceio
BEGIN:STANDARD
DTSTART:20020216T230000
TZNAME:-03
TZOFFSETFROM:-0200
TZOFFSETTO:-0300
END:STANDARD
END:VTIMEZONE
END:VCALENDAR
