BEGIN:VCALENDAR
VERSION:2.0
PRODID:-//Plone.org//NONSGML plone.app.event//EN
X-WR-TIMEZONE:America/Maceio
BEGIN:VEVENT
SUMMARY:Curso de  Gerenciamento de  Resíduos de Laboratório
DTSTART;TZID=America/Maceio:20250902T080000
DTEND;TZID=America/Maceio:20251014T120000
DTSTAMP:20260419T154332Z
UID:5fd2bd2d7c2d41388ff009ee4ede43df@principal.ufal.br
CREATED:20250801T143221Z
LAST-MODIFIED:20251229T125437Z
URL:https://ufal.br/servidor/capacitacao/eventos/2025/ii-semestre/curso-de
 -gerenciamento-de-residuos-de-laboratorio
END:VEVENT
BEGIN:VTIMEZONE
TZID:America/Maceio
X-LIC-LOCATION:America/Maceio
BEGIN:STANDARD
DTSTART:20020216T230000
TZNAME:-03
TZOFFSETFROM:-0200
TZOFFSETTO:-0300
END:STANDARD
END:VTIMEZONE
END:VCALENDAR
