BEGIN:VCALENDAR
VERSION:2.0
PRODID:-//Plone.org//NONSGML plone.app.event//EN
X-WR-TIMEZONE:America/Maceio
BEGIN:VEVENT
SUMMARY:Capacitação Docente para Integração de Laboratórios Virtuais 
 no Ensino na Saúde: Inovação\, Metodologias Ativas e Práticas Digitais
DTSTART;TZID=America/Maceio:20251107T183000
DTEND;TZID=America/Maceio:20251126T203000
DTSTAMP:20260420T161306Z
UID:110b13ca19c54050ad95ca74d880398f@principal.ufal.br
CREATED:20251028T144437Z
LAST-MODIFIED:20260210T140121Z
URL:https://ufal.br/servidor/capacitacao/eventos/2025/ii-semestre/capacita
 cao-docente-para-integracao-de-laboratorios-virtuais-no-ensino-na-saude-in
 ovacao-metodologias-ativas-e-praticas-digitais
END:VEVENT
BEGIN:VTIMEZONE
TZID:America/Maceio
X-LIC-LOCATION:America/Maceio
BEGIN:STANDARD
DTSTART:20020216T230000
TZNAME:-03
TZOFFSETFROM:-0200
TZOFFSETTO:-0300
END:STANDARD
END:VTIMEZONE
END:VCALENDAR
