BEGIN:VCALENDAR
VERSION:2.0
PRODID:-//Plone.org//NONSGML plone.app.event//EN
X-WR-TIMEZONE:America/Maceio
BEGIN:VEVENT
SUMMARY:Curso de Educação para Aposentadoria - EPA
DTSTART;TZID=America/Maceio:20250506T120000
DTEND;TZID=America/Maceio:20250507T130000
DTSTAMP:20260420T022801Z
UID:ebb926f9adc44bde950809a19479972a@principal.ufal.br
CREATED:20251209T151739Z
LAST-MODIFIED:20251229T125017Z
URL:https://ufal.br/servidor/capacitacao/eventos/2025/i-semestre/curso-de-
 educacao-para-aposentadoria-epa
END:VEVENT
BEGIN:VTIMEZONE
TZID:America/Maceio
X-LIC-LOCATION:America/Maceio
BEGIN:STANDARD
DTSTART:20020216T230000
TZNAME:-03
TZOFFSETFROM:-0200
TZOFFSETTO:-0300
END:STANDARD
END:VTIMEZONE
END:VCALENDAR
