BEGIN:VCALENDAR
VERSION:2.0
PRODID:-//Plone.org//NONSGML plone.app.event//EN
X-WR-TIMEZONE:America/Maceio
BEGIN:VEVENT
SUMMARY:Total de Capacitados: II Semestre: Parcial: 205.
DTSTART;TZID=America/Maceio:20241223T110000
DTEND;TZID=America/Maceio:20241223T120000
DTSTAMP:20260420T060607Z
UID:f588cde8b0744e17ab60b50b867dd811@principal.ufal.br
CREATED:20241223T144934Z
LAST-MODIFIED:20241223T144941Z
URL:https://ufal.br/servidor/capacitacao/eventos/2024/ii-semestre/total-de
 -capacitados-ii-semestre-parcial-205
END:VEVENT
BEGIN:VTIMEZONE
TZID:America/Maceio
X-LIC-LOCATION:America/Maceio
BEGIN:STANDARD
DTSTART:20020216T230000
TZNAME:-03
TZOFFSETFROM:-0200
TZOFFSETTO:-0300
END:STANDARD
END:VTIMEZONE
END:VCALENDAR
