BEGIN:VCALENDAR
VERSION:2.0
PRODID:-//Plone.org//NONSGML plone.app.event//EN
X-WR-TIMEZONE:America/Maceio
BEGIN:VEVENT
SUMMARY:Semana do Servidor 2024
DTSTART;TZID=America/Maceio:20241022T090000
DTEND;TZID=America/Maceio:20241025T130000
DTSTAMP:20260421T014158Z
UID:da2f6fe223764ef89bf7a040dc3d9084@principal.ufal.br
CREATED:20241220T155514Z
LAST-MODIFIED:20241220T155518Z
URL:https://ufal.br/servidor/capacitacao/eventos/2024/ii-semestre/semana-d
 o-servidor-2024
END:VEVENT
BEGIN:VTIMEZONE
TZID:America/Maceio
X-LIC-LOCATION:America/Maceio
BEGIN:STANDARD
DTSTART:20020216T230000
TZNAME:-03
TZOFFSETFROM:-0200
TZOFFSETTO:-0300
END:STANDARD
END:VTIMEZONE
END:VCALENDAR
