BEGIN:VCALENDAR
VERSION:2.0
PRODID:-//Plone.org//NONSGML plone.app.event//EN
X-WR-TIMEZONE:America/Maceio
BEGIN:VEVENT
SUMMARY:Palestra sobre Educação Financeira: Descomplicando Investimentos
DTSTART;TZID=America/Maceio:20241114T100000
DTEND;TZID=America/Maceio:20241114T120000
DTSTAMP:20260420T203345Z
UID:c4a8b0051a21419aa10efed4643fd9cb@principal.ufal.br
CREATED:20241111T150012Z
LAST-MODIFIED:20241220T145651Z
URL:https://ufal.br/servidor/capacitacao/eventos/2024/ii-semestre/palestra
 -sobre-educacao-financeira-descomplicando-investimentos
END:VEVENT
BEGIN:VTIMEZONE
TZID:America/Maceio
X-LIC-LOCATION:America/Maceio
BEGIN:STANDARD
DTSTART:20020216T230000
TZNAME:-03
TZOFFSETFROM:-0200
TZOFFSETTO:-0300
END:STANDARD
END:VTIMEZONE
END:VCALENDAR
