BEGIN:VCALENDAR
VERSION:2.0
PRODID:-//Plone.org//NONSGML plone.app.event//EN
X-WR-TIMEZONE:America/Maceio
BEGIN:VEVENT
SUMMARY:Projeto Dia da Mulher: Florescendo a Alma\, Celebrando o Feminino.
DTSTART;TZID=America/Maceio:20240305T080000
DTEND;TZID=America/Maceio:20240305T120000
DTSTAMP:20260420T213506Z
UID:178064c92d224df6940a6fb4399e238a@principal.ufal.br
CREATED:20241220T145331Z
LAST-MODIFIED:20241226T141254Z
URL:https://ufal.br/servidor/capacitacao/eventos/2024/i-semestre/projeto-d
 ia-da-mulher-florescendo-a-alma-celebrando-o-feminino
END:VEVENT
BEGIN:VTIMEZONE
TZID:America/Maceio
X-LIC-LOCATION:America/Maceio
BEGIN:STANDARD
DTSTART:20020216T230000
TZNAME:-03
TZOFFSETFROM:-0200
TZOFFSETTO:-0300
END:STANDARD
END:VTIMEZONE
END:VCALENDAR
