BEGIN:VCALENDAR
VERSION:2.0
PRODID:-//Plone.org//NONSGML plone.app.event//EN
X-WR-TIMEZONE:America/Maceio
BEGIN:VEVENT
SUMMARY:Virtualização de Processos na UFAL: Encontro dos Servidores
DTSTART;TZID=America/Maceio:20230126T100000
DTEND;TZID=America/Maceio:20230126T120000
DTSTAMP:20260420T172357Z
UID:dc520284a99e45f4882b3e41afddabc0@principal.ufal.br
CREATED:20230123T124539Z
LAST-MODIFIED:20240119T124138Z
URL:https://ufal.br/servidor/capacitacao/eventos/2023/inscricoes-abertas/i
 nscricoes-encerradas/virtualizacao-de-processos-na-ufal-encontro-dos-servi
 dores
END:VEVENT
BEGIN:VTIMEZONE
TZID:America/Maceio
X-LIC-LOCATION:America/Maceio
BEGIN:STANDARD
DTSTART:20020216T230000
TZNAME:-03
TZOFFSETFROM:-0200
TZOFFSETTO:-0300
END:STANDARD
END:VTIMEZONE
END:VCALENDAR
