BEGIN:VCALENDAR
VERSION:2.0
PRODID:-//Plone.org//NONSGML plone.app.event//EN
X-WR-TIMEZONE:America/Maceio
BEGIN:VEVENT
SUMMARY:Curso Sobre Desenvolvimento de Competências para a Escrita Cient
 ífica
DTSTART;TZID=America/Maceio:20230622T080000
DTEND;TZID=America/Maceio:20230712T100000
DTSTAMP:20260420T192334Z
UID:b3f35e3b7e34497eb2b6b092e84a6dfb@principal.ufal.br
CREATED:20230523T134156Z
LAST-MODIFIED:20240119T124351Z
URL:https://ufal.br/servidor/capacitacao/eventos/2023/inscricoes-abertas/i
 nscricoes-encerradas/curso-sobre-desenvolvimento-de-competencias-para-a-es
 crita-cientifica
END:VEVENT
BEGIN:VTIMEZONE
TZID:America/Maceio
X-LIC-LOCATION:America/Maceio
BEGIN:STANDARD
DTSTART:20020216T230000
TZNAME:-03
TZOFFSETFROM:-0200
TZOFFSETTO:-0300
END:STANDARD
END:VTIMEZONE
END:VCALENDAR
