BEGIN:VCALENDAR
VERSION:2.0
PRODID:-//Plone.org//NONSGML plone.app.event//EN
X-WR-TIMEZONE:America/Maceio
BEGIN:VEVENT
SUMMARY:Curso do Excel (Pacote Office 365)
DTSTART;TZID=America/Maceio:20230523T100000
DTEND;TZID=America/Maceio:20230602T110000
DTSTAMP:20260420T142522Z
UID:5015008c417d425ea1d73ad2f357129a@principal.ufal.br
CREATED:20230517T134037Z
LAST-MODIFIED:20240119T124227Z
URL:https://ufal.br/servidor/capacitacao/eventos/2023/inscricoes-abertas/i
 nscricoes-encerradas/curso-do-excel-pacote-office-365
END:VEVENT
BEGIN:VTIMEZONE
TZID:America/Maceio
X-LIC-LOCATION:America/Maceio
BEGIN:STANDARD
DTSTART:20020216T230000
TZNAME:-03
TZOFFSETFROM:-0200
TZOFFSETTO:-0300
END:STANDARD
END:VTIMEZONE
END:VCALENDAR
