BEGIN:VCALENDAR
VERSION:2.0
PRODID:-//Plone.org//NONSGML plone.app.event//EN
X-WR-TIMEZONE:America/Maceio
BEGIN:VEVENT
SUMMARY:Treinamento sobre os Sistemas de Informação em Uso pela UFAL
DTSTART;TZID=America/Maceio:20230718T090000
DTEND;TZID=America/Maceio:20230724T110000
DTSTAMP:20260420T153117Z
UID:8e7780a39d97438b939a837dd232370f@principal.ufal.br
CREATED:20230529T141951Z
LAST-MODIFIED:20240119T133224Z
URL:https://ufal.br/servidor/capacitacao/eventos/2023/ii-semestre/inscrico
 es-encerradas/treinamento-sobre-os-sistemas-de-informacao-em-uso-pela-ufal
END:VEVENT
BEGIN:VTIMEZONE
TZID:America/Maceio
X-LIC-LOCATION:America/Maceio
BEGIN:STANDARD
DTSTART:20020216T230000
TZNAME:-03
TZOFFSETFROM:-0200
TZOFFSETTO:-0300
END:STANDARD
END:VTIMEZONE
END:VCALENDAR
