BEGIN:VCALENDAR
VERSION:2.0
PRODID:-//Plone.org//NONSGML plone.app.event//EN
X-WR-TIMEZONE:America/Maceio
BEGIN:VEVENT
SUMMARY:Oficina Ferramentas para Gerenciamento de Tarefas
DTSTART;TZID=America/Maceio:20231003T100000
DTEND;TZID=America/Maceio:20231016T000000
DTSTAMP:20260420T205218Z
UID:57a2b04ea92244cfa8f9c7df912c2522@principal.ufal.br
CREATED:20230906T143722Z
LAST-MODIFIED:20240119T134814Z
URL:https://ufal.br/servidor/capacitacao/eventos/2023/ii-semestre/inscrico
 es-encerradas/oficina-ferramentas-para-gerenciamento-de-tarefas
END:VEVENT
BEGIN:VTIMEZONE
TZID:America/Maceio
X-LIC-LOCATION:America/Maceio
BEGIN:STANDARD
DTSTART:20020216T230000
TZNAME:-03
TZOFFSETFROM:-0200
TZOFFSETTO:-0300
END:STANDARD
END:VTIMEZONE
END:VCALENDAR
