BEGIN:VCALENDAR
VERSION:2.0
PRODID:-//Plone.org//NONSGML plone.app.event//EN
X-WR-TIMEZONE:America/Maceio
BEGIN:VEVENT
SUMMARY:Oficina: CANVA para Produção de Arte e Divulgação - Turma 2
DTSTART;TZID=America/Maceio:20231121T090000
DTEND;TZID=America/Maceio:20231205T110000
DTSTAMP:20260420T115055Z
UID:0a643006838f4641b9f899ec30e405ec@principal.ufal.br
CREATED:20231006T131045Z
LAST-MODIFIED:20240119T135106Z
URL:https://ufal.br/servidor/capacitacao/eventos/2023/ii-semestre/inscrico
 es-encerradas/oficina-canva-para-producao-de-arte-e-divulgacao-turma-2
END:VEVENT
BEGIN:VTIMEZONE
TZID:America/Maceio
X-LIC-LOCATION:America/Maceio
BEGIN:STANDARD
DTSTART:20020216T230000
TZNAME:-03
TZOFFSETFROM:-0200
TZOFFSETTO:-0300
END:STANDARD
END:VTIMEZONE
END:VCALENDAR
