BEGIN:VCALENDAR
VERSION:2.0
PRODID:-//Plone.org//NONSGML plone.app.event//EN
X-WR-TIMEZONE:America/Maceio
BEGIN:VEVENT
SUMMARY:Curso sobre Gerenciamento de Projetos de Pesquisa e Inovação
DTSTART;TZID=America/Maceio:20230808T140000
DTEND;TZID=America/Maceio:20230829T163000
DTSTAMP:20260420T235659Z
UID:f1fcdc1d23f6489985cdb3929793eb24@principal.ufal.br
CREATED:20230707T171709Z
LAST-MODIFIED:20240119T133717Z
URL:https://ufal.br/servidor/capacitacao/eventos/2023/ii-semestre/inscrico
 es-encerradas/curso-sobre-gerenciamento-de-projetos-de-pesquisa-e-inovacao
END:VEVENT
BEGIN:VTIMEZONE
TZID:America/Maceio
X-LIC-LOCATION:America/Maceio
BEGIN:STANDARD
DTSTART:20020216T230000
TZNAME:-03
TZOFFSETFROM:-0200
TZOFFSETTO:-0300
END:STANDARD
END:VTIMEZONE
END:VCALENDAR
