BEGIN:VCALENDAR
VERSION:2.0
PRODID:-//Plone.org//NONSGML plone.app.event//EN
X-WR-TIMEZONE:America/Maceio
BEGIN:VEVENT
SUMMARY:Curso de Língua Portuguesa:  Redação Oficial com Ênfase na Ela
 boração de Portarias
DTSTART;TZID=America/Maceio:20230911T140000
DTEND;TZID=America/Maceio:20230929T150000
DTSTAMP:20260420T170514Z
UID:d591efb239474b97a2fd7d41e5eaf73f@principal.ufal.br
CREATED:20230809T131624Z
LAST-MODIFIED:20240119T134131Z
URL:https://ufal.br/servidor/capacitacao/eventos/2023/ii-semestre/inscrico
 es-encerradas/curso-de-lingua-portuguesa-redacao-oficial-com-enfase-na-ela
 boracao-de-portarias
END:VEVENT
BEGIN:VTIMEZONE
TZID:America/Maceio
X-LIC-LOCATION:America/Maceio
BEGIN:STANDARD
DTSTART:20020216T230000
TZNAME:-03
TZOFFSETFROM:-0200
TZOFFSETTO:-0300
END:STANDARD
END:VTIMEZONE
END:VCALENDAR
