BEGIN:VCALENDAR
VERSION:2.0
PRODID:-//Plone.org//NONSGML plone.app.event//EN
X-WR-TIMEZONE:America/Maceio
BEGIN:VEVENT
SUMMARY:Curso de Excel (Pacote Office 365)| - Turma 2
DTSTART;TZID=America/Maceio:20230808T183000
DTEND;TZID=America/Maceio:20230816T203000
DTSTAMP:20260420T041249Z
UID:5ac7bf5890a840268b3107aab0f0dccd@principal.ufal.br
CREATED:20230718T154043Z
LAST-MODIFIED:20240119T133938Z
URL:https://ufal.br/servidor/capacitacao/eventos/2023/ii-semestre/inscrico
 es-encerradas/curso-de-excel-pacote-office-365-turma-2
END:VEVENT
BEGIN:VTIMEZONE
TZID:America/Maceio
X-LIC-LOCATION:America/Maceio
BEGIN:STANDARD
DTSTART:20020216T230000
TZNAME:-03
TZOFFSETFROM:-0200
TZOFFSETTO:-0300
END:STANDARD
END:VTIMEZONE
END:VCALENDAR
