BEGIN:VCALENDAR
VERSION:2.0
PRODID:-//Plone.org//NONSGML plone.app.event//EN
X-WR-TIMEZONE:America/Maceio
BEGIN:VEVENT
SUMMARY:Cursos
DTSTART;TZID=America/Maceio:20230517T090000
DTEND;TZID=America/Maceio:20230517T100000
DTSTAMP:20260420T122727Z
UID:2155d9b47252486b897169e910294120@principal.ufal.br
CREATED:20230517T130201Z
LAST-MODIFIED:20230517T154937Z
URL:https://ufal.br/servidor/capacitacao/eventos/2023/cursos-selecionados-
 em-edital-para-2023/cursos-previstos-para-2023
END:VEVENT
BEGIN:VTIMEZONE
TZID:America/Maceio
X-LIC-LOCATION:America/Maceio
BEGIN:STANDARD
DTSTART:20020216T230000
TZNAME:-03
TZOFFSETFROM:-0200
TZOFFSETTO:-0300
END:STANDARD
END:VTIMEZONE
END:VCALENDAR
